BEGIN:VCALENDAR
VERSION:2.0
PRODID:-//SiMODiSA Digital Portal - ECPv5.0.3.1//NONSGML v1.0//EN
CALSCALE:GREGORIAN
METHOD:PUBLISH
X-WR-CALNAME:SiMODiSA Digital Portal
X-ORIGINAL-URL:https://venturecentral.simodisa.org
X-WR-CALDESC:Events for SiMODiSA Digital Portal
BEGIN:VTIMEZONE
TZID:Africa/Johannesburg
BEGIN:STANDARD
TZOFFSETFROM:+0200
TZOFFSETTO:+0200
TZNAME:SAST
DTSTART:20190101T000000
END:STANDARD
END:VTIMEZONE
BEGIN:VEVENT
DTSTART;TZID=Africa/Johannesburg:20190918T163000
DTEND;TZID=Africa/Johannesburg:20190918T193000
DTSTAMP:20260420T203139
CREATED:20190822T142710Z
LAST-MODIFIED:20190822T142710Z
UID:25267-1568824200-1568835000@venturecentral.simodisa.org
SUMMARY:SAVCA 2019 Venture Capital Industry Survey
DESCRIPTION:SAVCA would like to invite you to the launch of the SAVCA 2019 Venture Capital Industry Survey taking place on Wednesday\, 18 September 2019 in Johannesburg. This publication will provide some rich data on the activities and trends in the Southern African venture capital industry for the 2018 calendar year. \nThe event will include a presentation on the survey results followed by a panel discussion entitled: The State of the Venture Capital Industry in South Africa. The panel discussion will explore the successes and challenges of the venture capital industry\, including the gaps and opportunities that should be addressed in the future. \n
URL:https://venturecentral.simodisa.org/event/savca-2019-venture-capital-industry-survey/
ATTACH;FMTTYPE=:
END:VEVENT
END:VCALENDAR