BEGIN:VCALENDAR
VERSION:2.0
PRODID:-//SiMODiSA Digital Portal - ECPv5.0.3.1//NONSGML v1.0//EN
CALSCALE:GREGORIAN
METHOD:PUBLISH
X-WR-CALNAME:SiMODiSA Digital Portal
X-ORIGINAL-URL:https://venturecentral.simodisa.org
X-WR-CALDESC:Events for SiMODiSA Digital Portal
BEGIN:VTIMEZONE
TZID:Africa/Johannesburg
BEGIN:STANDARD
TZOFFSETFROM:+0200
TZOFFSETTO:+0200
TZNAME:SAST
DTSTART:20190101T000000
END:STANDARD
END:VTIMEZONE
BEGIN:VEVENT
DTSTART;TZID=Africa/Johannesburg:20190812T090000
DTEND;TZID=Africa/Johannesburg:20190812T110000
DTSTAMP:20260423T090245
CREATED:20190812T123102Z
LAST-MODIFIED:20190812T123102Z
UID:23701-1565600400-1565607600@venturecentral.simodisa.org
SUMMARY:SAVCA & YES Event
DESCRIPTION:The Youth Employment Service(YES) offers significant benefits for the businesses who are able to create jobs for South African youth. The Southern African Venture Capital and Private Equity Association(SAVCA) and YES invite high-growth entrepreneurs\, venture capital sector stakeholders and portfolio managers to join us for a presentation on how YES has created over 18 000 jobs in 2019 and how your portfolio can benefit. \n
URL:https://venturecentral.simodisa.org/event/savca-yes-event/
ATTACH;FMTTYPE=:
END:VEVENT
END:VCALENDAR