BEGIN:VCALENDAR
VERSION:2.0
PRODID:-//SiMODiSA Digital Portal - ECPv5.0.3.1//NONSGML v1.0//EN
CALSCALE:GREGORIAN
METHOD:PUBLISH
X-WR-CALNAME:SiMODiSA Digital Portal
X-ORIGINAL-URL:https://venturecentral.simodisa.org
X-WR-CALDESC:Events for SiMODiSA Digital Portal
BEGIN:VTIMEZONE
TZID:Africa/Johannesburg
BEGIN:STANDARD
TZOFFSETFROM:+0200
TZOFFSETTO:+0200
TZNAME:SAST
DTSTART:20190101T000000
END:STANDARD
END:VTIMEZONE
BEGIN:VEVENT
DTSTART;TZID=Africa/Johannesburg:20190620T090000
DTEND;TZID=Africa/Johannesburg:20190620T120000
DTSTAMP:20260421T040859
CREATED:20190618T094900Z
LAST-MODIFIED:20190618T094900Z
UID:18420-1561021200-1561032000@venturecentral.simodisa.org
SUMMARY:SEDA Sasolburg Enterprise Coaching Program Launch
DESCRIPTION:The Enterprise Coaching Program will focus on Empowering & Mentoring Selected Entrepreneurs to Accelerate Their Growth (Over 10 Months) \n
URL:https://venturecentral.simodisa.org/event/seda-sasolburg-enterprise-coaching-program-launch/
ATTACH;FMTTYPE=:
END:VEVENT
END:VCALENDAR