BEGIN:VCALENDAR
VERSION:2.0
PRODID:-//SiMODiSA Digital Portal - ECPv5.0.3.1//NONSGML v1.0//EN
CALSCALE:GREGORIAN
METHOD:PUBLISH
X-WR-CALNAME:SiMODiSA Digital Portal
X-ORIGINAL-URL:https://venturecentral.simodisa.org
X-WR-CALDESC:Events for SiMODiSA Digital Portal
BEGIN:VTIMEZONE
TZID:Africa/Johannesburg
BEGIN:STANDARD
TZOFFSETFROM:+0200
TZOFFSETTO:+0200
TZNAME:SAST
DTSTART:20190101T000000
END:STANDARD
END:VTIMEZONE
BEGIN:VEVENT
DTSTART;TZID=Africa/Johannesburg:20190723T173000
DTEND;TZID=Africa/Johannesburg:20190723T200000
DTSTAMP:20260421T061259
CREATED:20190711T141916Z
LAST-MODIFIED:20190711T141916Z
UID:18738-1563903000-1563912000@venturecentral.simodisa.org
SUMMARY:#SGJohannesburg: Steps to launch your online store
DESCRIPTION:Selling direct online increases your reach. With an online store\, your profits are no longer limited by the number of customers that can physically visit your brick and mortar location. You can sell across towns\, states\, and even across borders\, removing all geographical limitations. \nYour online store also allows you to cater to shoppers who find it more convenient to browse and buy at times when retail locations are not traditionally open. Online shopping can save time for both the buyer and retailer\, reducing phone calls about availability\, specifications\, hours of operation or other information easily found on company and product pages. \nAn e-commerce system provides real-time data and analytics about your products and your customers. You can see how people interact with the site\, what products interest them\, what they left in their cart and how much the average purchase was. Valuable metrics that allow you to make adjustments to meet your customer’s needs. Join us as we uncover this subject alongside Warrick Kernes. Warrick is a serial entrepreneur with 11 years of eCommerce experience in South Africa and Europe. \n
URL:https://venturecentral.simodisa.org/event/sgjohannesburg-steps-to-launch-your/
ATTACH;FMTTYPE=:
END:VEVENT
END:VCALENDAR