BEGIN:VCALENDAR
VERSION:2.0
PRODID:-//SiMODiSA Digital Portal - ECPv5.0.3.1//NONSGML v1.0//EN
CALSCALE:GREGORIAN
METHOD:PUBLISH
X-WR-CALNAME:SiMODiSA Digital Portal
X-ORIGINAL-URL:https://venturecentral.simodisa.org
X-WR-CALDESC:Events for SiMODiSA Digital Portal
BEGIN:VTIMEZONE
TZID:Africa/Johannesburg
BEGIN:STANDARD
TZOFFSETFROM:+0200
TZOFFSETTO:+0200
TZNAME:SAST
DTSTART:20190101T000000
END:STANDARD
END:VTIMEZONE
BEGIN:VEVENT
DTSTART;TZID=Africa/Johannesburg:20190301T120000
DTEND;TZID=Africa/Johannesburg:20190301T150000
DTSTAMP:20260421T033806
CREATED:20190225T114941Z
LAST-MODIFIED:20190225T114941Z
UID:17542-1551441600-1551452400@venturecentral.simodisa.org
SUMMARY:#SGUWomen Dlamini Nosihle & Khumalo Phumelele : The journey of running business as women
DESCRIPTION:Nosihle and Phumelele founded the Get2Natural company on bases of a dearth in quality natural hair product. They started with one product but currently running a line of seven products. They were nominated top three in South Africa young entrepreneurs\, 2nd runner-up in the Global Cleantech innovation program (GCIP)\, awarded best upcoming entrepreneurs by Business Support featured in Isolezwe and iLanga newspaper. \n
URL:https://venturecentral.simodisa.org/event/sguwomen-dlamini-nosihle-khumalo-phumelele-the-journey-of-running-business-as-women/
ATTACH;FMTTYPE=:
END:VEVENT
END:VCALENDAR