BEGIN:VCALENDAR
VERSION:2.0
PRODID:-//SiMODiSA Digital Portal - ECPv5.0.3.1//NONSGML v1.0//EN
CALSCALE:GREGORIAN
METHOD:PUBLISH
X-WR-CALNAME:SiMODiSA Digital Portal
X-ORIGINAL-URL:https://venturecentral.simodisa.org
X-WR-CALDESC:Events for SiMODiSA Digital Portal
BEGIN:VTIMEZONE
TZID:Africa/Johannesburg
BEGIN:STANDARD
TZOFFSETFROM:+0200
TZOFFSETTO:+0200
TZNAME:SAST
DTSTART:20190101T000000
END:STANDARD
END:VTIMEZONE
BEGIN:VEVENT
DTSTART;TZID=Africa/Johannesburg:20190731T180000
DTEND;TZID=Africa/Johannesburg:20190731T200000
DTSTAMP:20260420T170018
CREATED:20190729T100428Z
LAST-MODIFIED:20190729T100428Z
UID:19767-1564596000-1564603200@venturecentral.simodisa.org
SUMMARY:Sherry\, Soup & Sales | Future Females Winelands
DESCRIPTION:Sherry\, Soup and Sales. Three highly effective S’s when they are created with passion\, attention\, the perfect blend of ingredients and served up in the right quantity\, quality and to the right audience. \nEntrepreneurship is about being able to translate the change you want to create in the world\, married with what you are good at\, into a sustainable business and this means solving problems\, innovating around outdated ways of doing and thinking and being authentic in your delivery throughout. \nYou are invited to join Future Females Winelands in Paarl on the 31st of July 2019 as our speakers share with you their business journey\, and let you in on how they manage to find\, engage and keep their customers through different but effective selling methods. \n
URL:https://venturecentral.simodisa.org/event/sherry-soup-sales-future-females-winelands/
ATTACH;FMTTYPE=:
END:VEVENT
END:VCALENDAR