BEGIN:VCALENDAR
VERSION:2.0
PRODID:-//SiMODiSA Digital Portal - ECPv5.0.3.1//NONSGML v1.0//EN
CALSCALE:GREGORIAN
METHOD:PUBLISH
X-WR-CALNAME:SiMODiSA Digital Portal
X-ORIGINAL-URL:https://venturecentral.simodisa.org
X-WR-CALDESC:Events for SiMODiSA Digital Portal
BEGIN:VTIMEZONE
TZID:Africa/Johannesburg
BEGIN:STANDARD
TZOFFSETFROM:+0200
TZOFFSETTO:+0200
TZNAME:SAST
DTSTART:20190101T000000
END:STANDARD
END:VTIMEZONE
BEGIN:VEVENT
DTSTART;TZID=Africa/Johannesburg:20190216T103000
DTEND;TZID=Africa/Johannesburg:20190216T140000
DTSTAMP:20260423T133520
CREATED:20190212T145835Z
LAST-MODIFIED:20190212T145835Z
UID:17474-1550313000-1550325600@venturecentral.simodisa.org
SUMMARY:Silicon Durbs Innovation Session
DESCRIPTION:The goal for such event is to have a hands on approach to creating Tech solutions to real world problems. each event we invite 5 people with tech innovative ideas that could be turned to proftable business but lake skills or a team to fully develop thoso solutions to prototypes. They also invite 20 people with tech and entrepreneural skills and would like to invest their skills into tech innovative ideas and become co-founders of solutions developed. They then connect the two vision(ideas) and the skills to create tech start-ups and help them grow through our ecosystem partners to a level where they create jobs and drive investments to the city of Durban. \n  \n
URL:https://venturecentral.simodisa.org/event/silicon-durbs-innovation-session/
ATTACH;FMTTYPE=:
END:VEVENT
END:VCALENDAR