BEGIN:VCALENDAR
VERSION:2.0
PRODID:-//SiMODiSA Digital Portal - ECPv5.0.3.1//NONSGML v1.0//EN
CALSCALE:GREGORIAN
METHOD:PUBLISH
X-WR-CALNAME:SiMODiSA Digital Portal
X-ORIGINAL-URL:https://venturecentral.simodisa.org
X-WR-CALDESC:Events for SiMODiSA Digital Portal
BEGIN:VTIMEZONE
TZID:Africa/Johannesburg
BEGIN:STANDARD
TZOFFSETFROM:+0200
TZOFFSETTO:+0200
TZNAME:SAST
DTSTART:20200101T000000
END:STANDARD
END:VTIMEZONE
BEGIN:VEVENT
DTSTART;TZID=Africa/Johannesburg:20200127T093000
DTEND;TZID=Africa/Johannesburg:20200127T113000
DTSTAMP:20260420T203040
CREATED:20200121T101749Z
LAST-MODIFIED:20200121T101749Z
UID:25568-1580117400-1580124600@venturecentral.simodisa.org
SUMMARY:Silver17 Recruiting Masterclass Featuring Hung Lee
DESCRIPTION:This recruiting Masterclass is designed for the recruiter who wants to stay on top of local and global recruitment trends. Join in as Silver17 start the new decade with a Masterclass at a beautiful venue in the V&A Waterfront. \nThe first workshop of the year headlines Hung Lee\, CEO of workshape.io and owner of the best manually curated recruiting content delivered to your inbox\, once a week. Recruiting Brainfood is the industry newsletter and professional group for the talent business and has grown from strength to strength. It remains a testament to Hung’s ability as an entrepreneur\, a master networker a curator\, and a speaker. \nAlso speaking will be: \nJane Moors: Talent Acquisition Trainer\, Facilitator and Professional Coach at Outerbox Thinking \nJonathan Koch CEO and Founder at TalentGenie.co.za and TalentScraper.com \nTim Glen Founder of Servicruit \n
URL:https://venturecentral.simodisa.org/event/silver17-recruiting-masterclass-featuring-hung-lee/
ATTACH;FMTTYPE=:
END:VEVENT
END:VCALENDAR