BEGIN:VCALENDAR
VERSION:2.0
PRODID:-//SiMODiSA Digital Portal - ECPv5.0.3.1//NONSGML v1.0//EN
CALSCALE:GREGORIAN
METHOD:PUBLISH
X-WR-CALNAME:SiMODiSA Digital Portal
X-ORIGINAL-URL:https://venturecentral.simodisa.org
X-WR-CALDESC:Events for SiMODiSA Digital Portal
BEGIN:VTIMEZONE
TZID:Africa/Johannesburg
BEGIN:STANDARD
TZOFFSETFROM:+0200
TZOFFSETTO:+0200
TZNAME:SAST
DTSTART:20180101T000000
END:STANDARD
END:VTIMEZONE
BEGIN:VEVENT
DTSTART;TZID=Africa/Johannesburg:20181101T173000
DTEND;TZID=Africa/Johannesburg:20181101T200000
DTSTAMP:20260423T165246
CREATED:20180912T134011Z
LAST-MODIFIED:20180912T134011Z
UID:17124-1541093400-1541102400@venturecentral.simodisa.org
SUMMARY:SiMODiSA Policy Dialogue
DESCRIPTION:
URL:https://venturecentral.simodisa.org/event/simodisa-policy-dialogue/
ATTACH;FMTTYPE=:
END:VEVENT
END:VCALENDAR