BEGIN:VCALENDAR
VERSION:2.0
PRODID:-//SiMODiSA Digital Portal - ECPv5.0.3.1//NONSGML v1.0//EN
CALSCALE:GREGORIAN
METHOD:PUBLISH
X-WR-CALNAME:SiMODiSA Digital Portal
X-ORIGINAL-URL:https://venturecentral.simodisa.org
X-WR-CALDESC:Events for SiMODiSA Digital Portal
BEGIN:VTIMEZONE
TZID:Africa/Johannesburg
BEGIN:STANDARD
TZOFFSETFROM:+0200
TZOFFSETTO:+0200
TZNAME:SAST
DTSTART:20170101T000000
END:STANDARD
END:VTIMEZONE
BEGIN:VEVENT
DTSTART;VALUE=DATE:20170831
DTEND;VALUE=DATE:20170903
DTSTAMP:20260421T071950
CREATED:20170810T131004Z
LAST-MODIFIED:20170810T131004Z
UID:26329-1504137600-1504396799@venturecentral.simodisa.org
SUMMARY:Small Business Expo
DESCRIPTION:
URL:https://venturecentral.simodisa.org/event/small-business-expo/
END:VEVENT
END:VCALENDAR