BEGIN:VCALENDAR
VERSION:2.0
PRODID:-//SiMODiSA Digital Portal - ECPv5.0.3.1//NONSGML v1.0//EN
CALSCALE:GREGORIAN
METHOD:PUBLISH
X-WR-CALNAME:SiMODiSA Digital Portal
X-ORIGINAL-URL:https://venturecentral.simodisa.org
X-WR-CALDESC:Events for SiMODiSA Digital Portal
BEGIN:VTIMEZONE
TZID:Africa/Johannesburg
BEGIN:STANDARD
TZOFFSETFROM:+0200
TZOFFSETTO:+0200
TZNAME:SAST
DTSTART:20170101T000000
END:STANDARD
END:VTIMEZONE
BEGIN:VEVENT
DTSTART;TZID=Africa/Johannesburg:20171128T163000
DTEND;TZID=Africa/Johannesburg:20171128T193000
DTSTAMP:20260425T103415
CREATED:20171124T154640Z
LAST-MODIFIED:20171124T154640Z
UID:12704-1511886600-1511897400@venturecentral.simodisa.org
SUMMARY:Smart City Africa
DESCRIPTION:What are the Challenges of Urbanisation in Africa and how can Smart Technologies provide pragmatic solutions? \n
URL:https://venturecentral.simodisa.org/event/smart-city-africa/
ATTACH;FMTTYPE=:
END:VEVENT
END:VCALENDAR