BEGIN:VCALENDAR
VERSION:2.0
PRODID:-//SiMODiSA Digital Portal - ECPv5.0.3.1//NONSGML v1.0//EN
CALSCALE:GREGORIAN
METHOD:PUBLISH
X-WR-CALNAME:SiMODiSA Digital Portal
X-ORIGINAL-URL:https://venturecentral.simodisa.org
X-WR-CALDESC:Events for SiMODiSA Digital Portal
BEGIN:VTIMEZONE
TZID:Africa/Johannesburg
BEGIN:STANDARD
TZOFFSETFROM:+0200
TZOFFSETTO:+0200
TZNAME:SAST
DTSTART:20190101T000000
END:STANDARD
END:VTIMEZONE
BEGIN:VEVENT
DTSTART;VALUE=DATE:20190916
DTEND;VALUE=DATE:20190920
DTSTAMP:20260420T170622
CREATED:20190917T120003Z
LAST-MODIFIED:20190917T120003Z
UID:25356-1568592000-1568937599@venturecentral.simodisa.org
SUMMARY:Smart Procurement World Indaba 2019
DESCRIPTION:13th Annual Smart Procurement World Indaba is Africa’s Premier procurement and supply chain gathering.  Co-hosted with the Absa Enterprise & Supplier Development Expo. Join 3000+ attendees from procurement\, supply chain\, enterprise supplier development\, SMME suppliers and procurement solution providers. \n
URL:https://venturecentral.simodisa.org/event/smart-procurement-world-indaba-2019/
ATTACH;FMTTYPE=:
END:VEVENT
END:VCALENDAR