BEGIN:VCALENDAR
VERSION:2.0
PRODID:-//SiMODiSA Digital Portal - ECPv5.0.3.1//NONSGML v1.0//EN
CALSCALE:GREGORIAN
METHOD:PUBLISH
X-WR-CALNAME:SiMODiSA Digital Portal
X-ORIGINAL-URL:https://venturecentral.simodisa.org
X-WR-CALDESC:Events for SiMODiSA Digital Portal
BEGIN:VTIMEZONE
TZID:Africa/Johannesburg
BEGIN:STANDARD
TZOFFSETFROM:+0200
TZOFFSETTO:+0200
TZNAME:SAST
DTSTART:20190101T000000
END:STANDARD
END:VTIMEZONE
BEGIN:VEVENT
DTSTART;TZID=Africa/Johannesburg:20190815T173000
DTEND;TZID=Africa/Johannesburg:20190815T200000
DTSTAMP:20260420T223220
CREATED:20190813T112133Z
LAST-MODIFIED:20190813T112133Z
UID:24845-1565890200-1565899200@venturecentral.simodisa.org
SUMMARY:Social Justice Amplified: A Bertha Centre Perspective
DESCRIPTION:Join the Bertha Centre team and scholars as they share their social justice-related work which spans from health innovation\, and impact investing to youth development and more. \n
URL:https://venturecentral.simodisa.org/event/social-justice-amplified-a-bertha-centre-perspective/
END:VEVENT
END:VCALENDAR