BEGIN:VCALENDAR
VERSION:2.0
PRODID:-//SiMODiSA Digital Portal - ECPv5.0.3.1//NONSGML v1.0//EN
CALSCALE:GREGORIAN
METHOD:PUBLISH
X-WR-CALNAME:SiMODiSA Digital Portal
X-ORIGINAL-URL:https://venturecentral.simodisa.org
X-WR-CALDESC:Events for SiMODiSA Digital Portal
BEGIN:VTIMEZONE
TZID:Africa/Johannesburg
BEGIN:STANDARD
TZOFFSETFROM:+0200
TZOFFSETTO:+0200
TZNAME:SAST
DTSTART:20170101T000000
END:STANDARD
END:VTIMEZONE
BEGIN:VEVENT
DTSTART;VALUE=DATE:20170906
DTEND;VALUE=DATE:20170909
DTSTAMP:20260420T234025
CREATED:20170810T131620Z
LAST-MODIFIED:20170810T131620Z
UID:26334-1504656000-1504915199@venturecentral.simodisa.org
SUMMARY:South African Innovation Summit
DESCRIPTION:
URL:https://venturecentral.simodisa.org/event/south-african-innovation-summit/
END:VEVENT
END:VCALENDAR