BEGIN:VCALENDAR
VERSION:2.0
PRODID:-//SiMODiSA Digital Portal - ECPv5.0.3.1//NONSGML v1.0//EN
CALSCALE:GREGORIAN
METHOD:PUBLISH
X-WR-CALNAME:SiMODiSA Digital Portal
X-ORIGINAL-URL:https://venturecentral.simodisa.org
X-WR-CALDESC:Events for SiMODiSA Digital Portal
BEGIN:VTIMEZONE
TZID:Africa/Johannesburg
BEGIN:STANDARD
TZOFFSETFROM:+0200
TZOFFSETTO:+0200
TZNAME:SAST
DTSTART:20190101T000000
END:STANDARD
END:VTIMEZONE
BEGIN:VEVENT
DTSTART;TZID=Africa/Johannesburg:20190614T170000
DTEND;TZID=Africa/Johannesburg:20190614T190000
DTSTAMP:20260420T224224
CREATED:20190610T095040Z
LAST-MODIFIED:20190610T095040Z
UID:18279-1560531600-1560538800@venturecentral.simodisa.org
SUMMARY:Spring Fellowship Meet-up in Johannesburg
DESCRIPTION:\n\n\n\nWe are meeting passionate startup founders to present Spring Fellowship a 4-month accelerator program for tech-oriented startups?\n\n\n\n\n\n\n\n\nTo announce the launch of the accelerator program “Spring Fellowship”\, Kinaya Ventures and Nestlé are hosting a meet-up in Johannesburg\, June 14 @5pm\, Tshimologong Precinct to discuss with promising tech-oriented entrepreneurs. \nIf you are a founder of : \n\nAn early to growth stage startup\nWith operations in Africa\n\nSpecialised in the following sectors: \n\nAgTech\nFoodTech\nAdTech/MarTech\nRetailTech\n\nIf you are looking for traction? Want to conquer new markets? If you want to scale up? This program is for you\, let’s meet in Johannesburg. \n\n\n\n\n
URL:https://venturecentral.simodisa.org/event/spring-fellowship-meet-up-in-johannesburg/
ATTACH;FMTTYPE=:
END:VEVENT
END:VCALENDAR