BEGIN:VCALENDAR
VERSION:2.0
PRODID:-//SiMODiSA Digital Portal - ECPv5.0.3.1//NONSGML v1.0//EN
CALSCALE:GREGORIAN
METHOD:PUBLISH
X-WR-CALNAME:SiMODiSA Digital Portal
X-ORIGINAL-URL:https://venturecentral.simodisa.org
X-WR-CALDESC:Events for SiMODiSA Digital Portal
BEGIN:VTIMEZONE
TZID:Africa/Johannesburg
BEGIN:STANDARD
TZOFFSETFROM:+0200
TZOFFSETTO:+0200
TZNAME:SAST
DTSTART:20190101T000000
END:STANDARD
END:VTIMEZONE
BEGIN:VEVENT
DTSTART;TZID=Africa/Johannesburg:20190529T180000
DTEND;TZID=Africa/Johannesburg:20190529T200000
DTSTAMP:20260420T223906
CREATED:20190527T105640Z
LAST-MODIFIED:20190527T105640Z
UID:18173-1559152800-1559160000@venturecentral.simodisa.org
SUMMARY:StartTech Meetup - Ready. Steady.Go!
DESCRIPTION:Esri StartTech Meetup provides an environment where developers can learn from each other\, connect and socialise to build successful companies. StartTech Meetups are free events happening regularly at our Midrand Offices. The perfect meetup for success! \n
URL:https://venturecentral.simodisa.org/event/starttech-meetup-ready-steady-go/
ATTACH;FMTTYPE=:
END:VEVENT
END:VCALENDAR