BEGIN:VCALENDAR
VERSION:2.0
PRODID:-//SiMODiSA Digital Portal - ECPv5.0.3.1//NONSGML v1.0//EN
CALSCALE:GREGORIAN
METHOD:PUBLISH
X-WR-CALNAME:SiMODiSA Digital Portal
X-ORIGINAL-URL:https://venturecentral.simodisa.org
X-WR-CALDESC:Events for SiMODiSA Digital Portal
BEGIN:VTIMEZONE
TZID:Africa/Johannesburg
BEGIN:STANDARD
TZOFFSETFROM:+0200
TZOFFSETTO:+0200
TZNAME:SAST
DTSTART:20190101T000000
END:STANDARD
END:VTIMEZONE
BEGIN:VEVENT
DTSTART;TZID=Africa/Johannesburg:20190807T170000
DTEND;TZID=Africa/Johannesburg:20190807T210000
DTSTAMP:20260423T205702
CREATED:20190805T113051Z
LAST-MODIFIED:20190805T113051Z
UID:19995-1565197200-1565211600@venturecentral.simodisa.org
SUMMARY:Startup Grind Cape Town: Birthday Party + Janine Basel (Akro Capital) FREE Event
DESCRIPTION:Startup Grind Cape Town is celebrating 6 years of inspiring\, educating and connecting entrepreneurs. We’re celebrating the founders\, side hustlers\, founding teams\, founder spouses\, investors\, ecosystem builders\, sponsors\, students and all the enablers! \nThis year at our birthday we’re featuring Janine Basel\, the founder of Akro Capital. Akro Capital is a R100 million investment fund that Janine started after spending 16 years as a stay at home mum. Akro Capital also owns Akro co-working spaces and Akro Accelerator and has received investment from the R1.4 billion SA SME Fund. In addition to accelerating and funding startups across sectors and stages\, Akro runs the Girl Boss Hustle initiative that supports female entrepreneurs. \n
URL:https://venturecentral.simodisa.org/event/startup-grind-cape-town-birthday-party-janine-basel-akro-capital-free-event/
END:VEVENT
END:VCALENDAR