BEGIN:VCALENDAR
VERSION:2.0
PRODID:-//SiMODiSA Digital Portal - ECPv5.0.3.1//NONSGML v1.0//EN
CALSCALE:GREGORIAN
METHOD:PUBLISH
X-WR-CALNAME:SiMODiSA Digital Portal
X-ORIGINAL-URL:https://venturecentral.simodisa.org
X-WR-CALDESC:Events for SiMODiSA Digital Portal
BEGIN:VTIMEZONE
TZID:Africa/Johannesburg
BEGIN:STANDARD
TZOFFSETFROM:+0200
TZOFFSETTO:+0200
TZNAME:SAST
DTSTART:20190101T000000
END:STANDARD
END:VTIMEZONE
BEGIN:VEVENT
DTSTART;VALUE=DATE:20190212
DTEND;VALUE=DATE:20190214
DTSTAMP:20260421T034346
CREATED:20190213T120938Z
LAST-MODIFIED:20190213T120938Z
UID:17499-1549929600-1550102399@venturecentral.simodisa.org
SUMMARY:Startup Grind Global Conference
DESCRIPTION:The Startup Grind Global Conference provides an environment unlike anything else – where our community of startups\, partners\, investors\, thought leaders\, and worldwide directors come together for 2+ days of invaluable education\, connection\, and inspiration. We will take over the streets of Redwood City\, stamped in the middle of Silicon Valley\, surrounded by tech giants and startups alike. \nWith 6 stages of highly educational content provided by a roster of world-class speakers\, thousands of entrepreneurs and innovators looking to build relationships\, hours of impactful networking and partner opportunities\, and of course – parties. Whether you are looking for a co-founder\, have just started your company\, or are grinding and scaling by the minute\, there’s something for everyone at Startup Grind. \nCan’t join in person for the 2019 Global Conference? You’re Covered!\nTune-in for the mainstage LIVESTREAM (powered by Google for Startups). \nShare your thoughts by tagging #SGGlobal on social media. \n
URL:https://venturecentral.simodisa.org/event/startup-grind-global-conference-2/
ATTACH;FMTTYPE=:
END:VEVENT
END:VCALENDAR