BEGIN:VCALENDAR
VERSION:2.0
PRODID:-//SiMODiSA Digital Portal - ECPv5.0.3.1//NONSGML v1.0//EN
CALSCALE:GREGORIAN
METHOD:PUBLISH
X-WR-CALNAME:SiMODiSA Digital Portal
X-ORIGINAL-URL:https://venturecentral.simodisa.org
X-WR-CALDESC:Events for SiMODiSA Digital Portal
BEGIN:VTIMEZONE
TZID:Africa/Johannesburg
BEGIN:STANDARD
TZOFFSETFROM:+0200
TZOFFSETTO:+0200
TZNAME:SAST
DTSTART:20190101T000000
END:STANDARD
END:VTIMEZONE
BEGIN:VEVENT
DTSTART;TZID=Africa/Johannesburg:20190513T180000
DTEND;TZID=Africa/Johannesburg:20190513T210000
DTSTAMP:20260420T233140
CREATED:20190513T111522Z
LAST-MODIFIED:20190513T111522Z
UID:18048-1557770400-1557781200@venturecentral.simodisa.org
SUMMARY:Startup Grind Johannesburg - Bitcoin for Beginners
DESCRIPTION:In the past decade\, bitcoin has disrupted the way we think about money. Behind the hype\, the youth has been at the forefront of the crypto-revolution; creating new ways of generating income and preserving wealth. \nPaxful\, one of the world’s largest peer-to-peer bitcoin marketplaces\, and Startup Grind South Africa\, the startup and entrepreneur whisperers\, are partnering to offer a free workshop on your campus on how you can take advantage of the bitcoin economy. Learn about how to use bitcoin to start your own bitcoin-powered businesses! \nThis workshop will explain: \n\nWhat is bitcoin and how to use it?\nHow to use a bitcoin marketplace and wallet\nHow to identify and avoid scams\nHow people across the globe are using bitcoin to become entrepreneurs\n\nJOIN US FOR A FUN SESSION WITH FREE SNACKS\, \nDRINKS\, GOODIE BAGS\, AND BITCOIN GIVEAWAYS! \n
URL:https://venturecentral.simodisa.org/event/startup-grind-johannesburg-bitcoin-for-beginners/
ATTACH;FMTTYPE=:
END:VEVENT
END:VCALENDAR