BEGIN:VCALENDAR
VERSION:2.0
PRODID:-//SiMODiSA Digital Portal - ECPv5.0.3.1//NONSGML v1.0//EN
CALSCALE:GREGORIAN
METHOD:PUBLISH
X-WR-CALNAME:SiMODiSA Digital Portal
X-ORIGINAL-URL:https://venturecentral.simodisa.org
X-WR-CALDESC:Events for SiMODiSA Digital Portal
BEGIN:VTIMEZONE
TZID:Africa/Johannesburg
BEGIN:STANDARD
TZOFFSETFROM:+0200
TZOFFSETTO:+0200
TZNAME:SAST
DTSTART:20190101T000000
END:STANDARD
END:VTIMEZONE
BEGIN:VEVENT
DTSTART;TZID=Africa/Johannesburg:20190823T130000
DTEND;TZID=Africa/Johannesburg:20190823T150000
DTSTAMP:20260421T061222
CREATED:20190819T104716Z
LAST-MODIFIED:20190819T104716Z
UID:25217-1566565200-1566572400@venturecentral.simodisa.org
SUMMARY:Startup Grind Johannesburg - Website Builder Workshop at UJ
DESCRIPTION:PLEASE NOTE: This workshop is not for individuals who want to create an eCommerce website. GoDaddy provides a beginner-friendly website builder that uses Artificial Design Intelligence (ADI) to make creating your website easier and faster than ever before. It uses information you enter to create a customized site in a matter of minutes\, making it perfect for beginners who want to publish a simple site online. \nCome and learn the value of building your brand and discover how creating websites can help grow your digital presence. Join our Website Builder Workshop in Johannesburg created for entrepreneurs\, small-business owners\, marketing professionals\, small practice owners\, designers\, contractors\, artists\, musicians\, authors\, students and other self-starters. Our workshop will teach you how to build and launch a website from scratch with zero coding skills required. At the end of the workshop; you’ll walk out with the professional website you’ve always wanted as well as master skills to manage the new site on your own. In addition\, when we’re finished building our websites\, we’ll be talking about analytics and ways to increase traffic to your new website. This workshop is taught by experts with the latest digital trends in an easy\, laid-back\, interactive environment. \n
URL:https://venturecentral.simodisa.org/event/startup-grind-johannesburg-website-builder-workshop-at-uj/
END:VEVENT
END:VCALENDAR