BEGIN:VCALENDAR
VERSION:2.0
PRODID:-//SiMODiSA Digital Portal - ECPv5.0.3.1//NONSGML v1.0//EN
CALSCALE:GREGORIAN
METHOD:PUBLISH
X-WR-CALNAME:SiMODiSA Digital Portal
X-ORIGINAL-URL:https://venturecentral.simodisa.org
X-WR-CALDESC:Events for SiMODiSA Digital Portal
BEGIN:VTIMEZONE
TZID:Africa/Johannesburg
BEGIN:STANDARD
TZOFFSETFROM:+0200
TZOFFSETTO:+0200
TZNAME:SAST
DTSTART:20190101T000000
END:STANDARD
END:VTIMEZONE
BEGIN:VEVENT
DTSTART;TZID=Africa/Johannesburg:20191012T090000
DTEND;TZID=Africa/Johannesburg:20191012T110000
DTSTAMP:20260420T165146
CREATED:20191007T153427Z
LAST-MODIFIED:20191007T153427Z
UID:25451-1570870800-1570878000@venturecentral.simodisa.org
SUMMARY:Startup Grind UFS hosts Belinda Janeke - workshop!
DESCRIPTION:Make sure not to miss this event with Belinda Janeke! \nBelinda Janeke is the Head of Career Services at the UFS. She has 11 years’ experience in academic and career advising and 19 years’ work experience in total. Her passion is career guidance and assisting individuals and teams to reach their full potential. She has designed and facilitates various work-readiness workshops including CV Writing\, job interview preparation\, personal brand\, social media benefits for business\, and the future of work. \nBelinda has won several awards in innovation and professionalisation of staff and is currently pursuing a second Masters degree. \n
URL:https://venturecentral.simodisa.org/event/startup-grind-ufs-hosts-belinda-janeke-workshop/
END:VEVENT
END:VCALENDAR