BEGIN:VCALENDAR
VERSION:2.0
PRODID:-//SiMODiSA Digital Portal - ECPv5.0.3.1//NONSGML v1.0//EN
CALSCALE:GREGORIAN
METHOD:PUBLISH
X-WR-CALNAME:SiMODiSA Digital Portal
X-ORIGINAL-URL:https://venturecentral.simodisa.org
X-WR-CALDESC:Events for SiMODiSA Digital Portal
BEGIN:VTIMEZONE
TZID:Africa/Johannesburg
BEGIN:STANDARD
TZOFFSETFROM:+0200
TZOFFSETTO:+0200
TZNAME:SAST
DTSTART:20190101T000000
END:STANDARD
END:VTIMEZONE
BEGIN:VEVENT
DTSTART;TZID=Africa/Johannesburg:20190802T083000
DTEND;TZID=Africa/Johannesburg:20190802T150000
DTSTAMP:20260425T203005
CREATED:20190729T114732Z
LAST-MODIFIED:20190729T114732Z
UID:19797-1564734600-1564758000@venturecentral.simodisa.org
SUMMARY:Startup Grind University of the Free State
DESCRIPTION:Startup Grind University of the Free State hosts Tafadzwa Kachara who is an intellectual property and technology transfer consultant lead at Kachara Inc. \n
URL:https://venturecentral.simodisa.org/event/startup-grind-university-of-the-free-state/
END:VEVENT
END:VCALENDAR