BEGIN:VCALENDAR
VERSION:2.0
PRODID:-//SiMODiSA Digital Portal - ECPv5.0.3.1//NONSGML v1.0//EN
CALSCALE:GREGORIAN
METHOD:PUBLISH
X-WR-CALNAME:SiMODiSA Digital Portal
X-ORIGINAL-URL:https://venturecentral.simodisa.org
X-WR-CALDESC:Events for SiMODiSA Digital Portal
BEGIN:VTIMEZONE
TZID:Africa/Johannesburg
BEGIN:STANDARD
TZOFFSETFROM:+0200
TZOFFSETTO:+0200
TZNAME:SAST
DTSTART:20190101T000000
END:STANDARD
END:VTIMEZONE
BEGIN:VEVENT
DTSTART;TZID=Africa/Johannesburg:20190720T100000
DTEND;TZID=Africa/Johannesburg:20190720T130000
DTSTAMP:20260420T224300
CREATED:20190715T112653Z
LAST-MODIFIED:20190715T112653Z
UID:18783-1563616800-1563627600@venturecentral.simodisa.org
SUMMARY:Startup Grind x Khayelitsha - Ntombie Nonxuba (Rise Uniforms)
DESCRIPTION:Startup Grind Khayelitsha is proud to host Ntombie Nonxuba\, founder and Director of Rise Uniforms\, a factory that supplies quality safety clothing\, uniform\, corporate wear and complementary garments based in Teguka Business Park\, Philippi Industrial. Rise Uniforms supplies retail shops\, hospitals\, schools and corporates across South Africa and some of their clients include Pick n Pay as well as Boxer Stores. \n
URL:https://venturecentral.simodisa.org/event/startup-grind-x-khayelitsha-ntombie-nonxuba-rise-uniforms/
ATTACH;FMTTYPE=:
END:VEVENT
END:VCALENDAR