BEGIN:VCALENDAR
VERSION:2.0
PRODID:-//SiMODiSA Digital Portal - ECPv5.0.3.1//NONSGML v1.0//EN
CALSCALE:GREGORIAN
METHOD:PUBLISH
X-WR-CALNAME:SiMODiSA Digital Portal
X-ORIGINAL-URL:https://venturecentral.simodisa.org
X-WR-CALDESC:Events for SiMODiSA Digital Portal
BEGIN:VTIMEZONE
TZID:Africa/Johannesburg
BEGIN:STANDARD
TZOFFSETFROM:+0200
TZOFFSETTO:+0200
TZNAME:SAST
DTSTART:20170101T000000
END:STANDARD
END:VTIMEZONE
BEGIN:VEVENT
DTSTART;TZID=Africa/Johannesburg:20170810T080000
DTEND;TZID=Africa/Johannesburg:20170810T170000
DTSTAMP:20260421T025728
CREATED:20170810T131755Z
LAST-MODIFIED:20170810T131755Z
UID:26335-1502352000-1502384400@venturecentral.simodisa.org
SUMMARY:Startup Thursday
DESCRIPTION:
URL:https://venturecentral.simodisa.org/event/startup-thursday-3/
END:VEVENT
END:VCALENDAR