BEGIN:VCALENDAR
VERSION:2.0
PRODID:-//SiMODiSA Digital Portal - ECPv5.0.3.1//NONSGML v1.0//EN
CALSCALE:GREGORIAN
METHOD:PUBLISH
X-WR-CALNAME:SiMODiSA Digital Portal
X-ORIGINAL-URL:https://venturecentral.simodisa.org
X-WR-CALDESC:Events for SiMODiSA Digital Portal
BEGIN:VTIMEZONE
TZID:Africa/Johannesburg
BEGIN:STANDARD
TZOFFSETFROM:+0200
TZOFFSETTO:+0200
TZNAME:SAST
DTSTART:20190101T000000
END:STANDARD
END:VTIMEZONE
BEGIN:VEVENT
DTSTART;TZID=Africa/Johannesburg:20191009T173000
DTEND;TZID=Africa/Johannesburg:20191009T203000
DTSTAMP:20260421T003122
CREATED:20190925T135152Z
LAST-MODIFIED:20190925T135152Z
UID:25401-1570642200-1570653000@venturecentral.simodisa.org
SUMMARY:StartupGrind Cape Town: Using IoT and AI to make any vehicle intelligent with Aubrey Mnisi (Sensorit.io)
DESCRIPTION:Startup grind Cape Town is proud to host Aubrey Mnisi. Aubrey is the Founder and CEO of Sensorit.io\, an automotive innovation company that uses IoT and AI to eliminate road accidents. He is a tech investor and founder of Black Unicorn Venture studio which is focused on black founded tech startups. He is also a co-founder of Swie.io\, a platform that manufactures electronics on-demand. \nBefore founding Sensorit.io\, Aubrey transitioned from being a qualified cost accountant at Bluekey to being a self-taught software engineer. He became a certified SAP consultant\, relocated to Germany and travelled to 26 cities around the world. \nAubrey has led Sensorit.io to win the MTN “innovative hardware in IoT” award. He is also the CTO of Snakenation.io\, a global organization empowering creators and coders to enter the global creative economy. \nAubrey was raised by a single parent in Khayelitsha and has had the entrepreneurial passion from the age of 17. \n
URL:https://venturecentral.simodisa.org/event/startupgrind-cape-town-using-iot-and-ai-to-make-any-vehicle-intelligent-with-aubrey-mnisi-sensorit-io/
END:VEVENT
END:VCALENDAR