BEGIN:VCALENDAR
VERSION:2.0
PRODID:-//SiMODiSA Digital Portal - ECPv5.0.3.1//NONSGML v1.0//EN
CALSCALE:GREGORIAN
METHOD:PUBLISH
X-WR-CALNAME:SiMODiSA Digital Portal
X-ORIGINAL-URL:https://venturecentral.simodisa.org
X-WR-CALDESC:Events for SiMODiSA Digital Portal
BEGIN:VTIMEZONE
TZID:Africa/Johannesburg
BEGIN:STANDARD
TZOFFSETFROM:+0200
TZOFFSETTO:+0200
TZNAME:SAST
DTSTART:20190101T000000
END:STANDARD
END:VTIMEZONE
BEGIN:VEVENT
DTSTART;TZID=Africa/Johannesburg:20190530T163000
DTEND;TZID=Africa/Johannesburg:20190530T180000
DTSTAMP:20260420T203158
CREATED:20190527T103942Z
LAST-MODIFIED:20190527T103942Z
UID:18163-1559233800-1559239200@venturecentral.simodisa.org
SUMMARY:Stellenbosch Digital LaunchLab Talk: Keri-Leigh Paschal - 'How digital technology can inform and build our nation'
DESCRIPTION:Join us for the next great Stellenbosch Digital LaunchLab Talk with Keri-Leigh Paschal\, Executive Director and co-founder of Nation Builder\, an initiative within the Mergon group. Keri will be speaking on how digital technology can inform and build our nation. \nMergon is an entrepreneurial private investment group that exists to impact lives and equip others to do the same. The Group consists of Mergon Invest\, the Mergon Foundation\, and Nation Builder. Mergon established Nation Builder as an initiative that inspires and equips custodians of capital to enable greater positive social impact. \n
URL:https://venturecentral.simodisa.org/event/stellenbosch-digital-launchlab-talk-keri-leigh-paschal-how-digital-technology-can-inform-and-build-our-nation/
END:VEVENT
END:VCALENDAR