BEGIN:VCALENDAR
VERSION:2.0
PRODID:-//SiMODiSA Digital Portal - ECPv5.0.3.1//NONSGML v1.0//EN
CALSCALE:GREGORIAN
METHOD:PUBLISH
X-WR-CALNAME:SiMODiSA Digital Portal
X-ORIGINAL-URL:https://venturecentral.simodisa.org
X-WR-CALDESC:Events for SiMODiSA Digital Portal
BEGIN:VTIMEZONE
TZID:Africa/Johannesburg
BEGIN:STANDARD
TZOFFSETFROM:+0200
TZOFFSETTO:+0200
TZNAME:SAST
DTSTART:20190101T000000
END:STANDARD
END:VTIMEZONE
BEGIN:VEVENT
DTSTART;TZID=Africa/Johannesburg:20190514T170000
DTEND;TZID=Africa/Johannesburg:20190514T200000
DTSTAMP:20260421T025945
CREATED:20190513T112238Z
LAST-MODIFIED:20190513T112238Z
UID:18051-1557853200-1557864000@venturecentral.simodisa.org
SUMMARY:Stellenbosch University IdeaSmash Pitching Event 2019
DESCRIPTION:The LaunchLab invites you to the Stellenbosch University (SU) IdeaSmash pitching event in collaboration with the Office of Research and Innovation and the Stellenbosch University SRC. \nTwelve of SU’s best early stage entrepreneurs will be presenting their business ideas to a panel of judges. \nWinning concepts would get the following benefits: \n\nA share of R 50 000\nA certificate of recognition from the office of the Vice Rector of Research and Innovation\nParticipation at the Venture Cup competition in Copenhagen\, Denmark.\n\nThe aim around the IdeaSmash is to expose the student community to the core fundamentals of problem-solving through entrepreneurship\, by scaling help to them in the early stage of their entrepreneurial experience. \nWe look forward to an exciting night of innovations\, valuable connections and more followed by light snacks and refreshments. \nPlease book your seat now! \n
URL:https://venturecentral.simodisa.org/event/stellenbosch-university-ideasmash-pitching-event-2019/
ATTACH;FMTTYPE=:
END:VEVENT
END:VCALENDAR