BEGIN:VCALENDAR
VERSION:2.0
PRODID:-//SiMODiSA Digital Portal - ECPv5.0.3.1//NONSGML v1.0//EN
CALSCALE:GREGORIAN
METHOD:PUBLISH
X-WR-CALNAME:SiMODiSA Digital Portal
X-ORIGINAL-URL:https://venturecentral.simodisa.org
X-WR-CALDESC:Events for SiMODiSA Digital Portal
BEGIN:VTIMEZONE
TZID:Africa/Johannesburg
BEGIN:STANDARD
TZOFFSETFROM:+0200
TZOFFSETTO:+0200
TZNAME:SAST
DTSTART:20190101T000000
END:STANDARD
END:VTIMEZONE
BEGIN:VEVENT
DTSTART;TZID=Africa/Johannesburg:20190406T090000
DTEND;TZID=Africa/Johannesburg:20190406T110000
DTSTAMP:20260420T204306
CREATED:20190402T085137Z
LAST-MODIFIED:20190402T085137Z
UID:17766-1554541200-1554548400@venturecentral.simodisa.org
SUMMARY:Systems to Scale – How to Scale your Business and Get More Free Time.
DESCRIPTION:“Starting & growing a business is the most exhilarating adventure you can embark on. It’s also one of the hardest. Freedom and accomplishment are well worth it\, but how do you do it all and maintain your sanity during the process?” \nAre you tired of balls being dropped and dealing with quality issues in your business?\nDo you want to scale your business but find it difficult to “turn-off”?\nDo you want to know the secret to run your business on autopilot? \nIf you can answer YES to any of the following questions\, as I know I can\, then this next event is one not to miss. \nWe are really excited to introduce you to Diane Lam\, who is our speaker from America and the founder of Everything Ally. Everything Ally is a Virtual Business Management & Systems Creation Resource for entrepreneurs and growing businesses. Diane supports entrepreneurs who are constantly creating new businesses or growing existing ones. Diane loves bringing an idea to fruition and nurturing it to ensure its growth. Diane has spent over 12 years as a partner to entrepreneurs\, sales teams\, and executives. Diane comes with a wealth of knowledge from both ends of the spectrum\, having worked in fast-paced organizations and now as an entrepreneur. \n
URL:https://venturecentral.simodisa.org/event/systems-to-scale-how-to-scale-your-business-and-get-more-free-time/
END:VEVENT
END:VCALENDAR