BEGIN:VCALENDAR
VERSION:2.0
PRODID:-//SiMODiSA Digital Portal - ECPv5.0.3.1//NONSGML v1.0//EN
CALSCALE:GREGORIAN
METHOD:PUBLISH
X-WR-CALNAME:SiMODiSA Digital Portal
X-ORIGINAL-URL:https://venturecentral.simodisa.org
X-WR-CALDESC:Events for SiMODiSA Digital Portal
BEGIN:VTIMEZONE
TZID:Africa/Johannesburg
BEGIN:STANDARD
TZOFFSETFROM:+0200
TZOFFSETTO:+0200
TZNAME:SAST
DTSTART:20190101T000000
END:STANDARD
END:VTIMEZONE
BEGIN:VEVENT
DTSTART;TZID=Africa/Johannesburg:20190723T090000
DTEND;TZID=Africa/Johannesburg:20190723T100000
DTSTAMP:20260421T041800
CREATED:20190722T120222Z
LAST-MODIFIED:20190722T120222Z
UID:19429-1563872400-1563876000@venturecentral.simodisa.org
SUMMARY:Tech startup ideas with Lindani Mkhize
DESCRIPTION:Silicon Durbs’s Lindani Mkhize will outline some practical tech ideas that entrepreneurs can start a business with. \n
URL:https://venturecentral.simodisa.org/event/tech-startup-ideas-with-lindani-mkhize/
ATTACH;FMTTYPE=:
END:VEVENT
END:VCALENDAR