BEGIN:VCALENDAR
VERSION:2.0
PRODID:-//SiMODiSA Digital Portal - ECPv5.0.3.1//NONSGML v1.0//EN
CALSCALE:GREGORIAN
METHOD:PUBLISH
X-WR-CALNAME:SiMODiSA Digital Portal
X-ORIGINAL-URL:https://venturecentral.simodisa.org
X-WR-CALDESC:Events for SiMODiSA Digital Portal
BEGIN:VTIMEZONE
TZID:Africa/Johannesburg
BEGIN:STANDARD
TZOFFSETFROM:+0200
TZOFFSETTO:+0200
TZNAME:SAST
DTSTART:20170101T000000
END:STANDARD
END:VTIMEZONE
BEGIN:VEVENT
DTSTART;TZID=Africa/Johannesburg:20170725T080000
DTEND;TZID=Africa/Johannesburg:20170725T170000
DTSTAMP:20260420T232324
CREATED:20170725T121012Z
LAST-MODIFIED:20170725T121012Z
UID:2432-1500969600-1501002000@venturecentral.simodisa.org
SUMMARY:Test
DESCRIPTION:Test Event \n
URL:https://venturecentral.simodisa.org/event/test/
LOCATION:blog-50
ATTACH;FMTTYPE=:
END:VEVENT
END:VCALENDAR