BEGIN:VCALENDAR
VERSION:2.0
PRODID:-//SiMODiSA Digital Portal - ECPv5.0.3.1//NONSGML v1.0//EN
CALSCALE:GREGORIAN
METHOD:PUBLISH
X-WR-CALNAME:SiMODiSA Digital Portal
X-ORIGINAL-URL:https://venturecentral.simodisa.org
X-WR-CALDESC:Events for SiMODiSA Digital Portal
BEGIN:VTIMEZONE
TZID:Africa/Johannesburg
BEGIN:STANDARD
TZOFFSETFROM:+0200
TZOFFSETTO:+0200
TZNAME:SAST
DTSTART:20190101T000000
END:STANDARD
END:VTIMEZONE
BEGIN:VEVENT
DTSTART;VALUE=DATE:20190624
DTEND;VALUE=DATE:20190627
DTSTAMP:20260423T090618
CREATED:20190624T134939Z
LAST-MODIFIED:20190624T134939Z
UID:18453-1561334400-1561593599@venturecentral.simodisa.org
SUMMARY:The 9th annual Sustainability Week 2019
DESCRIPTION:The 9th annual Sustainability Week scheduled for 24-26 June 2019\, and incorporating the 2nd Sustainable Cities Southern Africa Conference\, will facilitate a southern African multi-sector dialogue that has never been more important and timeous in light of the dire effects of climate change\, widespread environmental and human health challenges\, and the desperate need for employment and economic development. \nRecognising the powerful potential of economic stimulus through green economy action\, Sustainability Week seeks to bring together key national and local government and private sector leaders to extract and/or endorse a detailed set of actions\, across sub-sectors\, which can be implemented immediately to advance the sustainable development of our cities\, economies and communities. \n
URL:https://venturecentral.simodisa.org/event/the-9th-annual-sustainability-week-2019/
ATTACH;FMTTYPE=:
END:VEVENT
END:VCALENDAR