BEGIN:VCALENDAR
VERSION:2.0
PRODID:-//SiMODiSA Digital Portal - ECPv5.0.3.1//NONSGML v1.0//EN
CALSCALE:GREGORIAN
METHOD:PUBLISH
X-WR-CALNAME:SiMODiSA Digital Portal
X-ORIGINAL-URL:https://venturecentral.simodisa.org
X-WR-CALDESC:Events for SiMODiSA Digital Portal
BEGIN:VTIMEZONE
TZID:Africa/Johannesburg
BEGIN:STANDARD
TZOFFSETFROM:+0200
TZOFFSETTO:+0200
TZNAME:SAST
DTSTART:20190101T000000
END:STANDARD
END:VTIMEZONE
BEGIN:VEVENT
DTSTART;TZID=Africa/Johannesburg:20191007T170000
DTEND;TZID=Africa/Johannesburg:20191007T183000
DTSTAMP:20260420T165153
CREATED:20191007T153828Z
LAST-MODIFIED:20191007T153828Z
UID:25453-1570467600-1570473000@venturecentral.simodisa.org
SUMMARY:The Art of the Sale
DESCRIPTION:Spaces South Africa will be hosting the “Sales Guru” himself\, Mr Alon Lichtenstein- so don’t miss out on this spectacular symposium\, accompanied by next-level networking\, tasty treats and a lucky draw. \nCustomers are undoubtedly\, unequivocally the most important aspect of any business- without customers\, the most brilliant of startup ideas are worth nothing. But finding customers is easier said than done\, some would say that the sales process is “An Art” in itself. If that’s true\, then Alon Lichtenstein is the frikkin’ Vincent van Gogh of sales\, and he will be sharing his infinite wisdom and fascinating story with the Cape Town startup community. \n
URL:https://venturecentral.simodisa.org/event/the-art-of-the-sale/
END:VEVENT
END:VCALENDAR