BEGIN:VCALENDAR
VERSION:2.0
PRODID:-//SiMODiSA Digital Portal - ECPv5.0.3.1//NONSGML v1.0//EN
CALSCALE:GREGORIAN
METHOD:PUBLISH
X-WR-CALNAME:SiMODiSA Digital Portal
X-ORIGINAL-URL:https://venturecentral.simodisa.org
X-WR-CALDESC:Events for SiMODiSA Digital Portal
BEGIN:VTIMEZONE
TZID:Africa/Johannesburg
BEGIN:STANDARD
TZOFFSETFROM:+0200
TZOFFSETTO:+0200
TZNAME:SAST
DTSTART:20190101T000000
END:STANDARD
END:VTIMEZONE
BEGIN:VEVENT
DTSTART;TZID=Africa/Johannesburg:20190813T060000
DTEND;TZID=Africa/Johannesburg:20190813T200000
DTSTAMP:20260421T080737
CREATED:20190808T172810Z
LAST-MODIFIED:20190808T172810Z
UID:20124-1565676000-1565726400@venturecentral.simodisa.org
SUMMARY:The Black Tax Hustle
DESCRIPTION:Is Black Tax getting you down? \nPlease come join us for a special talk as we look at how the story of intergenerational wealth works through a unique combination of data\, analysis and the human narratives behind the story. \nThe term “Black Tax” captures a mixed bag of emotions – a sense of responsibility\, sometimes grudging yet unavoidable. What are some of the real practical; mechanics that we can use to manage how we deal with it? How do you make it sustainable? How do we create progress? \nIn this interactive talk\, we give you a real sense of how this phenomenon impacts us\, and how big the gap is that we are trying to close. We tackle strategies for how to cope with family responsibilities while still being able to enjoy the many things in life we want for ourselves. How do we use the tools this generation has to change our story? \n
URL:https://venturecentral.simodisa.org/event/the-black-tax-hustle/
ATTACH;FMTTYPE=:
END:VEVENT
END:VCALENDAR