BEGIN:VCALENDAR
VERSION:2.0
PRODID:-//SiMODiSA Digital Portal - ECPv5.0.3.1//NONSGML v1.0//EN
CALSCALE:GREGORIAN
METHOD:PUBLISH
X-WR-CALNAME:SiMODiSA Digital Portal
X-ORIGINAL-URL:https://venturecentral.simodisa.org
X-WR-CALDESC:Events for SiMODiSA Digital Portal
BEGIN:VTIMEZONE
TZID:Africa/Johannesburg
BEGIN:STANDARD
TZOFFSETFROM:+0200
TZOFFSETTO:+0200
TZNAME:SAST
DTSTART:20190101T000000
END:STANDARD
END:VTIMEZONE
BEGIN:VEVENT
DTSTART;TZID=Africa/Johannesburg:20190220T083000
DTEND;TZID=Africa/Johannesburg:20190221T163000
DTSTAMP:20260423T202616
CREATED:20181119T122857Z
LAST-MODIFIED:20181119T122857Z
UID:17337-1550651400-1550766600@venturecentral.simodisa.org
SUMMARY:The Business Show 2019
DESCRIPTION:Africa’s largest business expo\, conference and networking event for anyone starting or building a bigger business! \nBe inspired by big-name visionary speakers\, thought leaders\, business professionals and leading industry experts. More than 350 exhibits\, masterclasses\, seminars and sessions throughout the two-day showcase. \n
URL:https://venturecentral.simodisa.org/event/the-business-show-2019/
ATTACH;FMTTYPE=:
END:VEVENT
END:VCALENDAR