BEGIN:VCALENDAR
VERSION:2.0
PRODID:-//SiMODiSA Digital Portal - ECPv5.0.3.1//NONSGML v1.0//EN
CALSCALE:GREGORIAN
METHOD:PUBLISH
X-WR-CALNAME:SiMODiSA Digital Portal
X-ORIGINAL-URL:https://venturecentral.simodisa.org
X-WR-CALDESC:Events for SiMODiSA Digital Portal
BEGIN:VTIMEZONE
TZID:Africa/Johannesburg
BEGIN:STANDARD
TZOFFSETFROM:+0200
TZOFFSETTO:+0200
TZNAME:SAST
DTSTART:20190101T000000
END:STANDARD
END:VTIMEZONE
BEGIN:VEVENT
DTSTART;TZID=Africa/Johannesburg:20190730T180000
DTEND;TZID=Africa/Johannesburg:20190730T210000
DTSTAMP:20260420T185008
CREATED:20190701T132844Z
LAST-MODIFIED:20190701T132844Z
UID:18560-1564509600-1564520400@venturecentral.simodisa.org
SUMMARY:The Mentorship Challenge- Youth In Property Association (YIPA) UCT
DESCRIPTION:The Mentorship Challenge was first conceived by Redefine Properties as an innovative way to make a real difference in people’s lives\, and to demonstrate Redefine’s commitment to our country and its future leaders. \nThe Mentorship Challenge allows ordinary South Africans to connect with legendary leaders in every possible field – from artists to architects\, techpreneurs to teachers\, from singers to stockbrokers to scientists\, fashionistas to philanthropists\, from property developers to publicists and professional athletes. From the very start\, then\, the intention was to revive and entrench a culture of mentorship in a skills-scarce South Africa – to create a rich resource of masterclasses that could be drawn on by future leaders and promising entrepreneurs\, from all walks of life.’ \n
URL:https://venturecentral.simodisa.org/event/the-mentorship-challenge-youth-in-property-association-yipa-uct/
ATTACH;FMTTYPE=:
END:VEVENT
END:VCALENDAR