BEGIN:VCALENDAR
VERSION:2.0
PRODID:-//SiMODiSA Digital Portal - ECPv5.0.3.1//NONSGML v1.0//EN
CALSCALE:GREGORIAN
METHOD:PUBLISH
X-WR-CALNAME:SiMODiSA Digital Portal
X-ORIGINAL-URL:https://venturecentral.simodisa.org
X-WR-CALDESC:Events for SiMODiSA Digital Portal
BEGIN:VTIMEZONE
TZID:Africa/Johannesburg
BEGIN:STANDARD
TZOFFSETFROM:+0200
TZOFFSETTO:+0200
TZNAME:SAST
DTSTART:20190101T000000
END:STANDARD
END:VTIMEZONE
BEGIN:VEVENT
DTSTART;VALUE=DATE:20190326
DTEND;VALUE=DATE:20190328
DTSTAMP:20260425T192103
CREATED:20190325T102544Z
LAST-MODIFIED:20190325T102544Z
UID:17707-1553558400-1553731199@venturecentral.simodisa.org
SUMMARY:The Power & Electricity World Africa 2019
DESCRIPTION:Power & Electricity World Africa is the largest and longest running power and electricity conference and exhibition in Africa – the meeting place of Africa’s energy sector. The conference will feature a startup pavilion where some of the latest energy solutions will be displayed. \n
URL:https://venturecentral.simodisa.org/event/the-power-electricity-world-africa-2019/
LOCATION:blog-50
ATTACH;FMTTYPE=:
END:VEVENT
END:VCALENDAR