BEGIN:VCALENDAR
VERSION:2.0
PRODID:-//SiMODiSA Digital Portal - ECPv5.0.3.1//NONSGML v1.0//EN
CALSCALE:GREGORIAN
METHOD:PUBLISH
X-WR-CALNAME:SiMODiSA Digital Portal
X-ORIGINAL-URL:https://venturecentral.simodisa.org
X-WR-CALDESC:Events for SiMODiSA Digital Portal
BEGIN:VTIMEZONE
TZID:Africa/Johannesburg
BEGIN:STANDARD
TZOFFSETFROM:+0200
TZOFFSETTO:+0200
TZNAME:SAST
DTSTART:20190101T000000
END:STANDARD
END:VTIMEZONE
BEGIN:VEVENT
DTSTART;TZID=Africa/Johannesburg:20190226T180000
DTEND;TZID=Africa/Johannesburg:20190226T210000
DTSTAMP:20260423T190230
CREATED:20190225T121123Z
LAST-MODIFIED:20190225T121123Z
UID:17545-1551204000-1551214800@venturecentral.simodisa.org
SUMMARY:Theo Baloyi - Bathu Shoes
DESCRIPTION:Join Startup Grind Centurion on the 26th February 2019 as they probe the heart and mind of Theo Baloyi\, Founder of Bathu Shoes (Pty) Ltd.  \nIn April 2015\, with savings accumulated over the 5 year period spent at PwC\, Theo Baloyi launched Bathu Shoes from a tiny room in Alexandra township\, with the primary objective to tell an untold\, proudly South African story/narrative to the world through selling uniquely designed shoes. Theo identified a gap for a  shoe brand that would narrate authentic African stories . Prior to launching\, Theo worked on the Research & Development \, Quality control & Assurance \, Proof of concept for Bathu Shoes for 18 months! \nGet to know the man who’s breathable\,colourful shoes are getting every South Africa walking their own journey! \n
URL:https://venturecentral.simodisa.org/event/theo-baloyi-bathu-shoes/
ATTACH;FMTTYPE=:
END:VEVENT
END:VCALENDAR