BEGIN:VCALENDAR
VERSION:2.0
PRODID:-//SiMODiSA Digital Portal - ECPv5.0.3.1//NONSGML v1.0//EN
CALSCALE:GREGORIAN
METHOD:PUBLISH
X-WR-CALNAME:SiMODiSA Digital Portal
X-ORIGINAL-URL:https://venturecentral.simodisa.org
X-WR-CALDESC:Events for SiMODiSA Digital Portal
BEGIN:VTIMEZONE
TZID:Africa/Johannesburg
BEGIN:STANDARD
TZOFFSETFROM:+0200
TZOFFSETTO:+0200
TZNAME:SAST
DTSTART:20190101T000000
END:STANDARD
END:VTIMEZONE
BEGIN:VEVENT
DTSTART;TZID=Africa/Johannesburg:20190524T083000
DTEND;TZID=Africa/Johannesburg:20190524T110000
DTSTAMP:20260420T224317
CREATED:20190520T135813Z
LAST-MODIFIED:20190520T135813Z
UID:18114-1558686600-1558695600@venturecentral.simodisa.org
SUMMARY:Think Ahead EdtechWomen Breakfast Club - Johannesburg
DESCRIPTION:For women transforming education through technology. Have breakfast with other thought leaders and change makers – whose aim is to make an impact in education through harnessing the power of digital platforms and tools. An opportunity to explore trending topics\, network and hear exciting speakers. Edtech Women Breakfast Club is a forum focused on building a strong community of women enthusiastic about technology in education. \nBrought to you by Think Ahead Education Solutions and iStore. \nMay breakfast keynote topic: “ Fake news is infiltrating our children’s studies: how do we lessen its impact. ” \nkeynote speaker: Tanya Pampalone \n
URL:https://venturecentral.simodisa.org/event/think-ahead-edtechwomen-breakfast-club-johannesburg/
ATTACH;FMTTYPE=:
END:VEVENT
END:VCALENDAR