BEGIN:VCALENDAR
VERSION:2.0
PRODID:-//SiMODiSA Digital Portal - ECPv5.0.3.1//NONSGML v1.0//EN
CALSCALE:GREGORIAN
METHOD:PUBLISH
X-WR-CALNAME:SiMODiSA Digital Portal
X-ORIGINAL-URL:https://venturecentral.simodisa.org
X-WR-CALDESC:Events for SiMODiSA Digital Portal
BEGIN:VTIMEZONE
TZID:Africa/Johannesburg
BEGIN:STANDARD
TZOFFSETFROM:+0200
TZOFFSETTO:+0200
TZNAME:SAST
DTSTART:20190101T000000
END:STANDARD
END:VTIMEZONE
BEGIN:VEVENT
DTSTART;TZID=Africa/Johannesburg:20190905T080000
DTEND;TZID=Africa/Johannesburg:20190905T170000
DTSTAMP:20260420T222007
CREATED:20190905T121919Z
LAST-MODIFIED:20190905T121919Z
UID:25327-1567670400-1567702800@venturecentral.simodisa.org
SUMMARY:Think Future no.2
DESCRIPTION:Think Future is an unconventional event\, where change-makers from diverse industries and geographies draw inspiration from global forces\, collaborate and connect to catalyse strong early life foundations for children. \n  \n
URL:https://venturecentral.simodisa.org/event/think-future-no-2/
END:VEVENT
END:VCALENDAR