BEGIN:VCALENDAR
VERSION:2.0
PRODID:-//SiMODiSA Digital Portal - ECPv5.0.3.1//NONSGML v1.0//EN
CALSCALE:GREGORIAN
METHOD:PUBLISH
X-WR-CALNAME:SiMODiSA Digital Portal
X-ORIGINAL-URL:https://venturecentral.simodisa.org
X-WR-CALDESC:Events for SiMODiSA Digital Portal
BEGIN:VTIMEZONE
TZID:Africa/Johannesburg
BEGIN:STANDARD
TZOFFSETFROM:+0200
TZOFFSETTO:+0200
TZNAME:SAST
DTSTART:20190101T000000
END:STANDARD
END:VTIMEZONE
BEGIN:VEVENT
DTSTART;TZID=Africa/Johannesburg:20190627T183000
DTEND;TZID=Africa/Johannesburg:20190627T210000
DTSTAMP:20260420T152849
CREATED:20190627T111106Z
LAST-MODIFIED:20190627T111106Z
UID:18521-1561660200-1561669200@venturecentral.simodisa.org
SUMMARY:THUD Tshwane: #1976reimagined: youth-led enterprising economic growth
DESCRIPTION:As we upgrade ourselves from the politics of 1976 to the economics of 2019 during youth month in South Africa\, #1976reimagined becomes extremely relevant as we continue to fight in the trenches against unemployment\, inequality and poverty. These 3 major evils facing our country are coupled by personal challenges we all face: doubt\, discouragement and past failure. Young people are going through a lot in this economic depression.THUD constantly fights to be part of the solution in enabling trade for entrepreneurs with public & private sector procurement as key market access enablers. \nThis month THUD celebrates some of the City of Tshwane’s finest talent in the entrepreneurship arena\, namely\, Mogau Seshoene\, Founder of The Lazy Makoti and Mokgadi Mabela\, Founder and CEO of Native Nosi. They also engage Nontuthuko Shandu\, CEO of Dandozest Restaurant situated at Freedom Park Heritage Site & Museum and Joe Human from Creative Mind Space. Lethabo Mokoena\, Founder and CEO of Walk Fresh will moderate the session. \nEntrepreneurs are in search of 3 things right now and THUD aims to provide some of the answers on 27 June 2019:  \n\nMarket Access: where to look (demand); how to position yourself (strategy); when to look (timing)\nWorking Capital: how to fund my projects; how to access seed capital; what to do to qualify\nCapacity Development: How to grow your operation; When to grow; Why compliance is a key enabler of trade access\n\n\n
URL:https://venturecentral.simodisa.org/event/thud-tshwane-1976reimagined-youth-led-enterprising-economic-growth/
ATTACH;FMTTYPE=:
END:VEVENT
END:VCALENDAR