BEGIN:VCALENDAR
VERSION:2.0
PRODID:-//SiMODiSA Digital Portal - ECPv5.0.3.1//NONSGML v1.0//EN
CALSCALE:GREGORIAN
METHOD:PUBLISH
X-WR-CALNAME:SiMODiSA Digital Portal
X-ORIGINAL-URL:https://venturecentral.simodisa.org
X-WR-CALDESC:Events for SiMODiSA Digital Portal
BEGIN:VTIMEZONE
TZID:Africa/Johannesburg
BEGIN:STANDARD
TZOFFSETFROM:+0200
TZOFFSETTO:+0200
TZNAME:SAST
DTSTART:20170101T000000
END:STANDARD
END:VTIMEZONE
BEGIN:VEVENT
DTSTART;VALUE=DATE:20171113
DTEND;VALUE=DATE:20171117
DTSTAMP:20260423T090741
CREATED:20171109T131700Z
LAST-MODIFIED:20171109T131700Z
UID:12124-1510531200-1510876799@venturecentral.simodisa.org
SUMMARY:TMARA : A Product-Market Fit Master Class
DESCRIPTION:
URL:https://venturecentral.simodisa.org/event/tmara-a-product-market-fit-master-class/
ATTACH;FMTTYPE=:
END:VEVENT
END:VCALENDAR