BEGIN:VCALENDAR
VERSION:2.0
PRODID:-//SiMODiSA Digital Portal - ECPv5.0.3.1//NONSGML v1.0//EN
CALSCALE:GREGORIAN
METHOD:PUBLISH
X-WR-CALNAME:SiMODiSA Digital Portal
X-ORIGINAL-URL:https://venturecentral.simodisa.org
X-WR-CALDESC:Events for SiMODiSA Digital Portal
BEGIN:VTIMEZONE
TZID:Africa/Johannesburg
BEGIN:STANDARD
TZOFFSETFROM:+0200
TZOFFSETTO:+0200
TZNAME:SAST
DTSTART:20180101T000000
END:STANDARD
END:VTIMEZONE
BEGIN:VEVENT
DTSTART;TZID=Africa/Johannesburg:20181127T090000
DTEND;TZID=Africa/Johannesburg:20181128T143000
DTSTAMP:20260420T214954
CREATED:20181116T161937Z
LAST-MODIFIED:20181116T161937Z
UID:17325-1543309200-1543415400@venturecentral.simodisa.org
SUMMARY:Two-Day Ethereum Developer Course
DESCRIPTION:This 2-day course is designed for developers\, architects and IT Managers wanting to learn and apply blockchain technology to solve real-world business problems and effectively develop secure\, full stack DApps on the Ethereum blockchain. \n
URL:https://venturecentral.simodisa.org/event/two-day-ethereum-developer-course/
ATTACH;FMTTYPE=:
END:VEVENT
END:VCALENDAR