BEGIN:VCALENDAR
VERSION:2.0
PRODID:-//SiMODiSA Digital Portal - ECPv5.0.3.1//NONSGML v1.0//EN
CALSCALE:GREGORIAN
METHOD:PUBLISH
X-WR-CALNAME:SiMODiSA Digital Portal
X-ORIGINAL-URL:https://venturecentral.simodisa.org
X-WR-CALDESC:Events for SiMODiSA Digital Portal
BEGIN:VTIMEZONE
TZID:Africa/Johannesburg
BEGIN:STANDARD
TZOFFSETFROM:+0200
TZOFFSETTO:+0200
TZNAME:SAST
DTSTART:20190101T000000
END:STANDARD
END:VTIMEZONE
BEGIN:VEVENT
DTSTART;TZID=Africa/Johannesburg:20191104T083000
DTEND;TZID=Africa/Johannesburg:20191104T160000
DTSTAMP:20260420T152931
CREATED:20190919T131154Z
LAST-MODIFIED:20190919T131154Z
UID:25374-1572856200-1572883200@venturecentral.simodisa.org
SUMMARY:UJ Business School & York Zucchi - How to find clients and grow your business
DESCRIPTION:Access to markets – finding clients – is one of the fundamental elements of starting and growing a business\, be it as an entrepreneur or as an executive within a larger organization. Too much focus is often placed on the development of the product or service and organizational matters and not enough on generating leads and getting market traction\, even within an organisation. Yet without sales and market traction\, business is just a hobby. \nThe “How to find Clients and grow your business” 1-day course will help business owners (startups\, SMEs\, entrepreneurs) and those who think like business owners to: \n\nUnderstand the science and art of sales\, lead solicitation and sales cycle processes and how to make it work to their advantage.\nDevelop a practical working knowledge to find\, identify and pursue leads based on real-life practical work we will do during the day.\nSetup lead tracking systems based on free tools/apps that allow you to monitor their efforts\, performance and outcomes as well as identify challenges based on facts vs anecdotal (the system is not prescriptive\nLearn about what works and what doesn’t in terms of sales outcomes (based on our learnings from observing and supporting SMEs in over 83 countries).\nHave a good mastery of the tools that surround us that you can utilize to start generating leads for their businesses.\n\nThe course will be highly interactive and the participants will leave with practical knowledge and the tools and knowhow to utilise for them to start generating leads and traction for their businesses immediately. \n
URL:https://venturecentral.simodisa.org/event/uj-business-school-york-zucchi-how-to-find-clients-and-grow-your-business/
ATTACH;FMTTYPE=:
END:VEVENT
END:VCALENDAR