BEGIN:VCALENDAR
VERSION:2.0
PRODID:-//SiMODiSA Digital Portal - ECPv5.0.3.1//NONSGML v1.0//EN
CALSCALE:GREGORIAN
METHOD:PUBLISH
X-WR-CALNAME:SiMODiSA Digital Portal
X-ORIGINAL-URL:https://venturecentral.simodisa.org
X-WR-CALDESC:Events for SiMODiSA Digital Portal
BEGIN:VTIMEZONE
TZID:Africa/Johannesburg
BEGIN:STANDARD
TZOFFSETFROM:+0200
TZOFFSETTO:+0200
TZNAME:SAST
DTSTART:20190101T000000
END:STANDARD
END:VTIMEZONE
BEGIN:VEVENT
DTSTART;TZID=Africa/Johannesburg:20190406T083000
DTEND;TZID=Africa/Johannesburg:20190406T170000
DTSTAMP:20260420T223228
CREATED:20190402T093957Z
LAST-MODIFIED:20190402T093957Z
UID:17774-1554539400-1554570000@venturecentral.simodisa.org
SUMMARY:Unleashing The Exponential Power of Women Entrepreneurs Conference
DESCRIPTION:The attendees will receive mentoring\, executive training\, individual coaching and networking to help equip them on the journey to executive leadership in Africa or in their own businesses. \nThis conference is open to women that are serious about taking their career or business to the next level. Emerging leaders will have the opportunity to network with Mentors and business leaders that are committed to helping enable women to succeed in leadership. The tenured professional will also have the opportunity to refresh and explore new possibilities. \nBe ready for authentic conversations about how to succeed in the face of a myriad of perceived obstacles! \nThis event will change your life and you will be so ready to make 2019 your best year ever. \nMaking Every Women Count- Closing the Gender Gap! \n
URL:https://venturecentral.simodisa.org/event/unleashing-the-exponential-power-of-women-entrepreneurs-conference/
ATTACH;FMTTYPE=:
END:VEVENT
END:VCALENDAR