BEGIN:VCALENDAR
VERSION:2.0
PRODID:-//SiMODiSA Digital Portal - ECPv5.0.3.1//NONSGML v1.0//EN
CALSCALE:GREGORIAN
METHOD:PUBLISH
X-WR-CALNAME:SiMODiSA Digital Portal
X-ORIGINAL-URL:https://venturecentral.simodisa.org
X-WR-CALDESC:Events for SiMODiSA Digital Portal
BEGIN:VTIMEZONE
TZID:Africa/Johannesburg
BEGIN:STANDARD
TZOFFSETFROM:+0200
TZOFFSETTO:+0200
TZNAME:SAST
DTSTART:20190101T000000
END:STANDARD
END:VTIMEZONE
BEGIN:VEVENT
DTSTART;TZID=Africa/Johannesburg:20190308T100000
DTEND;TZID=Africa/Johannesburg:20190308T130000
DTSTAMP:20260420T204011
CREATED:20190304T122531Z
LAST-MODIFIED:20190304T122531Z
UID:17597-1552039200-1552050000@venturecentral.simodisa.org
SUMMARY:VC Office Hours with Hlayisani Capital
DESCRIPTION:Tech Startup founders are invited to VC Office Hours with Hlayisani Capital Portfolio Manager\, Mathew Palin. \nThe aim of our Office Hours is to further the Solution Space’s goal of reducing risks associated with new business models. We believe our Ecosystem Partners expertise can add tremendous value to startups at this stage of their development where there is flexibility to adapt and pivot based on feedback received from customers and investors. \nThese Office Hours are not pitching sessions\, but rather an opportunity for startups to engage and get a different perspective and feedback on their business. \n
URL:https://venturecentral.simodisa.org/event/vc-office-hours-with-hlayisani-capital/
ATTACH;FMTTYPE=:
END:VEVENT
END:VCALENDAR