BEGIN:VCALENDAR
VERSION:2.0
PRODID:-//SiMODiSA Digital Portal - ECPv5.0.3.1//NONSGML v1.0//EN
CALSCALE:GREGORIAN
METHOD:PUBLISH
X-WR-CALNAME:SiMODiSA Digital Portal
X-ORIGINAL-URL:https://venturecentral.simodisa.org
X-WR-CALDESC:Events for SiMODiSA Digital Portal
BEGIN:VTIMEZONE
TZID:Africa/Johannesburg
BEGIN:STANDARD
TZOFFSETFROM:+0200
TZOFFSETTO:+0200
TZNAME:SAST
DTSTART:20190101T000000
END:STANDARD
END:VTIMEZONE
BEGIN:VEVENT
DTSTART;VALUE=DATE:20190516
DTEND;VALUE=DATE:20190519
DTSTAMP:20260420T184243
CREATED:20190506T114526Z
LAST-MODIFIED:20190506T114526Z
UID:18004-1557964800-1558223999@venturecentral.simodisa.org
SUMMARY:Viva Technology
DESCRIPTION:VivaTech is the world’s rendezvous for startups and leaders to celebrate innovation. It’s a gathering of the world’s brightest minds\, talents\, and products taking place in Paris on 16–18 May 2019. \nFrom top speakers and exhibitions to open innovation and live experiences\, VivaTech is a celebration of today’s innovations and tomorrow’s possibilities for everyone who believes in the power of technology to transform business and society. \n
URL:https://venturecentral.simodisa.org/event/viva-technology/
ATTACH;FMTTYPE=:
END:VEVENT
END:VCALENDAR