BEGIN:VCALENDAR
VERSION:2.0
PRODID:-//SiMODiSA Digital Portal - ECPv5.0.3.1//NONSGML v1.0//EN
CALSCALE:GREGORIAN
METHOD:PUBLISH
X-WR-CALNAME:SiMODiSA Digital Portal
X-ORIGINAL-URL:https://venturecentral.simodisa.org
X-WR-CALDESC:Events for SiMODiSA Digital Portal
BEGIN:VTIMEZONE
TZID:Africa/Johannesburg
BEGIN:STANDARD
TZOFFSETFROM:+0200
TZOFFSETTO:+0200
TZNAME:SAST
DTSTART:20190101T000000
END:STANDARD
END:VTIMEZONE
BEGIN:VEVENT
DTSTART;VALUE=DATE:20190326
DTEND;VALUE=DATE:20190328
DTSTAMP:20260425T222606
CREATED:20190325T102124Z
LAST-MODIFIED:20190325T102124Z
UID:17704-1553558400-1553731199@venturecentral.simodisa.org
SUMMARY:Water Show Africa 2019
DESCRIPTION:Water Show Africa is a unique conference and marketplace where water CEOs\, government officials\, senior executives and engineers come to explore solutions for developing investable and sustainable world class water projects throughout the African continent. \n
URL:https://venturecentral.simodisa.org/event/water-show-africa-2019/
LOCATION:blog-50
ATTACH;FMTTYPE=:
END:VEVENT
END:VCALENDAR