BEGIN:VCALENDAR
VERSION:2.0
PRODID:-//SiMODiSA Digital Portal - ECPv5.0.3.1//NONSGML v1.0//EN
CALSCALE:GREGORIAN
METHOD:PUBLISH
X-WR-CALNAME:SiMODiSA Digital Portal
X-ORIGINAL-URL:https://venturecentral.simodisa.org
X-WR-CALDESC:Events for SiMODiSA Digital Portal
BEGIN:VTIMEZONE
TZID:Africa/Johannesburg
BEGIN:STANDARD
TZOFFSETFROM:+0200
TZOFFSETTO:+0200
TZNAME:SAST
DTSTART:20190101T000000
END:STANDARD
END:VTIMEZONE
BEGIN:VEVENT
DTSTART;TZID=Africa/Johannesburg:20190918T090000
DTEND;TZID=Africa/Johannesburg:20190918T130000
DTSTAMP:20260420T185821
CREATED:20190916T121431Z
LAST-MODIFIED:20190916T121431Z
UID:25345-1568797200-1568811600@venturecentral.simodisa.org
SUMMARY:We Are Hosting Power Couple Rudolf & Lizelle Stolze Owners Of Restaurant - Serendipity
DESCRIPTION:During 2001 Husband and Wife Rudolf and Lizelle Stolze founded Serendipity Restaurant\, which is highly regarded as one of the best restaurants in South Africa. Join us as they provide explosive testimony in a Tell-It-All interview detailing their lows and highs and what it takes to become an industry leader. Get Motivated. Get Inspired. Expand! \n
URL:https://venturecentral.simodisa.org/event/we-are-hosting-power-couple-rudolf-lizelle-stolze-owners-of-restaurant-serendipity/
END:VEVENT
END:VCALENDAR