BEGIN:VCALENDAR
VERSION:2.0
PRODID:-//SiMODiSA Digital Portal - ECPv5.0.3.1//NONSGML v1.0//EN
CALSCALE:GREGORIAN
METHOD:PUBLISH
X-WR-CALNAME:SiMODiSA Digital Portal
X-ORIGINAL-URL:https://venturecentral.simodisa.org
X-WR-CALDESC:Events for SiMODiSA Digital Portal
BEGIN:VTIMEZONE
TZID:Africa/Johannesburg
BEGIN:STANDARD
TZOFFSETFROM:+0200
TZOFFSETTO:+0200
TZNAME:SAST
DTSTART:20190101T000000
END:STANDARD
END:VTIMEZONE
BEGIN:VEVENT
DTSTART;TZID=Africa/Johannesburg:20190228T180000
DTEND;TZID=Africa/Johannesburg:20190228T210000
DTSTAMP:20260421T075017
CREATED:20190225T121534Z
LAST-MODIFIED:20190225T121534Z
UID:17548-1551376800-1551387600@venturecentral.simodisa.org
SUMMARY:We are hosting Tu­misang Kgaboe­sele to help you launch your business in 2019
DESCRIPTION:\n\n\n\nSoweto Are you Ready? \nStartUp Grind Soweto to launch on the 28th of February 2019 with a fireside chat with Tumisang Kgaboesele talking about business launch\, using what’s in your disposal and making it work against all odds. As you are getting your focus and swing for the New year join us to learn\, get  inspired and connect at StartUpgrind Soweto \n\n\n\n\n\n
URL:https://venturecentral.simodisa.org/event/we-are-hosting-tumisang-kgaboesele-to-help-you-launch-your-business-in-2019/
ATTACH;FMTTYPE=:
END:VEVENT
END:VCALENDAR