BEGIN:VCALENDAR
VERSION:2.0
PRODID:-//SiMODiSA Digital Portal - ECPv5.0.3.1//NONSGML v1.0//EN
CALSCALE:GREGORIAN
METHOD:PUBLISH
X-WR-CALNAME:SiMODiSA Digital Portal
X-ORIGINAL-URL:https://venturecentral.simodisa.org
X-WR-CALDESC:Events for SiMODiSA Digital Portal
BEGIN:VTIMEZONE
TZID:Africa/Johannesburg
BEGIN:STANDARD
TZOFFSETFROM:+0200
TZOFFSETTO:+0200
TZNAME:SAST
DTSTART:20190101T000000
END:STANDARD
END:VTIMEZONE
BEGIN:VEVENT
DTSTART;TZID=Africa/Johannesburg:20190612T083000
DTEND;TZID=Africa/Johannesburg:20190612T153000
DTSTAMP:20260421T051953
CREATED:20190610T130114Z
LAST-MODIFIED:20190610T130114Z
UID:18289-1560328200-1560353400@venturecentral.simodisa.org
SUMMARY:Western Cape Funding Fair 2019
DESCRIPTION:The Western Cape Funding Fair is a joint initiative between Deloitte Western Cape and the Department of Economic Development and Tourism. It is an exhibition and conference styled platform aimed at creating awareness and access to multiple funding organisations. Deloitte and The Department are not direct funders of SMMEs but through the Western Cape\, Funding Fair seeks to educate entrepreneurs and business owners on accessing finance\, looking at opportunities available\, investment readiness and typical issues affecting access to finance. \n
URL:https://venturecentral.simodisa.org/event/western-cape-funding-fair-2019/
ATTACH;FMTTYPE=:
END:VEVENT
END:VCALENDAR